BEGIN:VCALENDAR
VERSION:2.0
PRODID:-//allgo - ECPv5.4.0.2//NONSGML v1.0//EN
CALSCALE:GREGORIAN
METHOD:PUBLISH
X-WR-CALNAME:allgo
X-ORIGINAL-URL:https://allgo.org
X-WR-CALDESC:Events for allgo
BEGIN:VTIMEZONE
TZID:UTC
BEGIN:STANDARD
TZOFFSETFROM:+0000
TZOFFSETTO:+0000
TZNAME:UTC
DTSTART:20200101T000000
END:STANDARD
END:VTIMEZONE
BEGIN:VEVENT
DTSTART;TZID=UTC:20200419T150000
DTEND;TZID=UTC:20200419T170000
DTSTAMP:20210707T052426
CREATED:20200409T160502Z
LAST-MODIFIED:20200409T160502Z
UID:1910-1587308400-1587315600@allgo.org
SUMMARY:QPOC Intimacy In The Time of Coronavirus19
DESCRIPTION:allgo is creating a space for queer people of color to come together and explore what community\, self care\, and love look like during this time. \nEven with all of the joy and well-being they bring to our lives\, relationships can be complicated and often tough. They can get even harder with the world changing around us and all kinds of pressures coming at us. Let’s come together and talk about getting close and staying close during this time. Let’s talk about love\, sex\, and friendship as queer people of color navigating the world with the additional realities of coronavirus. Martha Ramos Duffer\, a queer Latina psychologist\, will lead us through a discussion of what’s working well and what’s getting difficult about connecting to loves during this time of physical distancing\, fears\, and economic shifts and what we can do to nurture and grow intimacy\, closeness\, and connection\, especially now. \nRegister in advance for this meeting:\nhttps://zoom.us/meeting/register/vpUoc-qqrz8jT8zaxeKG2D17iVhL0lLPeA \nAfter registering\, you will receive a confirmation email containing information about joining the meeting.
URL:https://allgo.org/event/qpoc-intimacy-in-the-time-of-coronavirus19/
ATTACH;FMTTYPE=image/png:https://allgo.org/wp-content/uploads/Pink-Brush-Strokes-Beauty-Cosmetics-Facebook-Cover-1.png
END:VEVENT
BEGIN:VEVENT
DTSTART;TZID=UTC:20200419T150000
DTEND;TZID=UTC:20200419T170000
DTSTAMP:20210707T052426
CREATED:20200610T182104Z
LAST-MODIFIED:20200610T182104Z
UID:2024-1587308400-1587315600@allgo.org
SUMMARY:QPOC Intimacy In The Time of Coronavirus19
DESCRIPTION:allgo is creating a space for queer people of color to come together and explore what community\, self care\, and love look like during this time. \nEven with all of the joy and well-being they bring to our lives\, relationships can be complicated and often tough. They can get even harder with the world changing around us and all kinds of pressures coming at us. Let’s come together and talk about getting close and staying close during this time. Let’s talk about love\, sex\, and friendship as queer people of color navigating the world with the additional realities of coronavirus. Martha Ramos Duffer\, a queer Latina psychologist\, will lead us through a discussion of what’s working well and what’s getting difficult about connecting to loves during this time of physical distancing\, fears\, and economic shifts and what we can do to nurture and grow intimacy\, closeness\, and connection\, especially now. \nRegister in advance for this meeting:\nhttps://zoom.us/meeting/register/vpUoc-qqrz8jT8zaxeKG2D17iVhL0lLPeA \nAfter registering\, you will receive a confirmation email containing information about joining the meeting.
URL:https://allgo.org/event/qpoc-intimacy-in-the-time-of-coronavirus19-2/
ATTACH;FMTTYPE=image/png:https://allgo.org/wp-content/uploads/Pink-Brush-Strokes-Beauty-Cosmetics-Facebook-Cover-1.png
END:VEVENT
END:VCALENDAR