BEGIN:VCALENDAR
VERSION:2.0
PRODID:-//allgo - ECPv5.4.0.2//NONSGML v1.0//EN
CALSCALE:GREGORIAN
METHOD:PUBLISH
X-WR-CALNAME:allgo
X-ORIGINAL-URL:https://allgo.org
X-WR-CALDESC:Events for allgo
BEGIN:VTIMEZONE
TZID:UTC
BEGIN:STANDARD
TZOFFSETFROM:+0000
TZOFFSETTO:+0000
TZNAME:UTC
DTSTART:20200101T000000
END:STANDARD
END:VTIMEZONE
BEGIN:VEVENT
DTSTART;TZID=UTC:20200405T150000
DTEND;TZID=UTC:20200405T170000
DTSTAMP:20210707T052355
CREATED:20200403T180423Z
LAST-MODIFIED:20200403T180423Z
UID:1905-1586098800-1586106000@allgo.org
SUMMARY:Community Care & Love During Coronavirus19
DESCRIPTION:allgo is creating a space for queer people of color to come together and explore what community\, self care and love look like during this time. Dr. Martha Ramos Duffer\, a queer Latina psychologist\, will facilitate sharing strategies on navigating waves of emotions and intersecting oppressions exacerbated in this moment as we tap into internal\, collective\, and ancestral wisdom to guide us and hold us. \nRegister in advance:\nhttps://zoom.us/meeting/register/tZQsf-6qrzIjO5luiPAug8iJFK30p-_–A \nAfter registering\, you will receive a confirmation email containing information about joining the meeting.
URL:https://allgo.org/event/community-care-love-during-coronavirus19/
ATTACH;FMTTYPE=image/png:https://allgo.org/wp-content/uploads/Pink-Brush-Strokes-Beauty-Cosmetics-Facebook-Cover.png
END:VEVENT
BEGIN:VEVENT
DTSTART;TZID=UTC:20200405T150000
DTEND;TZID=UTC:20200405T170000
DTSTAMP:20210707T052355
CREATED:20200610T182352Z
LAST-MODIFIED:20200610T182352Z
UID:2029-1586098800-1586106000@allgo.org
SUMMARY:Community Care & Love During Coronavirus19
DESCRIPTION:allgo is creating a space for queer people of color to come together and explore what community\, self care and love look like during this time. Dr. Martha Ramos Duffer\, a queer Latina psychologist\, will facilitate sharing strategies on navigating waves of emotions and intersecting oppressions exacerbated in this moment as we tap into internal\, collective\, and ancestral wisdom to guide us and hold us. \nRegister in advance: We are asking folks to register as everyone will have there unique link to ensure privacy.\nhttps://zoom.us/meeting/register/tZQsf-6qrzIjO5luiPAug8iJFK30p-_–A \nAfter registering\, you will receive a confirmation email containing information about joining the meeting.
URL:https://allgo.org/event/community-care-love-during-coronavirus19-2/
ATTACH;FMTTYPE=image/png:https://allgo.org/wp-content/uploads/Pink-Brush-Strokes-Beauty-Cosmetics-Facebook-Cover.png
END:VEVENT
END:VCALENDAR