BEGIN:VCALENDAR
VERSION:2.0
PRODID:-//allgo - ECPv5.4.0.2//NONSGML v1.0//EN
CALSCALE:GREGORIAN
METHOD:PUBLISH
X-WR-CALNAME:allgo
X-ORIGINAL-URL:https://allgo.org
X-WR-CALDESC:Events for allgo
BEGIN:VTIMEZONE
TZID:UTC
BEGIN:STANDARD
TZOFFSETFROM:+0000
TZOFFSETTO:+0000
TZNAME:UTC
DTSTART:20200101T000000
END:STANDARD
END:VTIMEZONE
BEGIN:VEVENT
DTSTART;TZID=UTC:20200123T183000
DTEND;TZID=UTC:20200123T203000
DTSTAMP:20210703T083757
CREATED:20200122T155531Z
LAST-MODIFIED:20200122T155531Z
UID:1884-1579804200-1579811400@allgo.org
SUMMARY:Normalizing Resting in 2020
DESCRIPTION:As we gear up for the new year\, we may have made resolutions and intentions to work on. It can be about our health\, our relationships\, or about careers. One thing that people don’t often prioritize however is slowing down. \nJoin us as we discuss the importance of resting\, meditating\, and taking a moment to breathe and what it does for our sexual\, mental and physical well being. We will discuss the role slowing down plays in our relationships with others\, and how it can enhance or detract from our sexual wellness. Feel free to bring your sexual\, romantic and/or platonic partner(s) as well as anything that helps you feel grounded\, slow down and take deep breaths. \nEvent is wheelchair accessible. Light snacks and refreshments will be provided. Visitors are always welcome to bring food or drinks to share\, but it is not at all required to attend. This event is one of many this year around promoting the well being and vitality of QPOC communities in Austin\, TX. For more information about this and other Health and Wellness events\, send a message to wellness@allgo.org.
URL:https://allgo.org/event/normalizing-resting-in-2020/
LOCATION:allgo\, 701 Tillery St.\, Austin\, TX\, 78702\, United States
ATTACH;FMTTYPE=image/jpeg:https://allgo.org/wp-content/uploads/Resting-Banner.jpg
END:VEVENT
END:VCALENDAR