BEGIN:VCALENDAR
VERSION:2.0
PRODID:-//allgo - ECPv5.4.0.2//NONSGML v1.0//EN
CALSCALE:GREGORIAN
METHOD:PUBLISH
X-WR-CALNAME:allgo
X-ORIGINAL-URL:https://allgo.org
X-WR-CALDESC:Events for allgo
BEGIN:VTIMEZONE
TZID:UTC
BEGIN:STANDARD
TZOFFSETFROM:+0000
TZOFFSETTO:+0000
TZNAME:UTC
DTSTART:20190101T000000
END:STANDARD
END:VTIMEZONE
BEGIN:VEVENT
DTSTART;TZID=UTC:20191209T183000
DTEND;TZID=UTC:20191209T203000
DTSTAMP:20210703T083625
CREATED:20191202T173609Z
LAST-MODIFIED:20191202T173609Z
UID:1868-1575916200-1575923400@allgo.org
SUMMARY:Letter Writing Party in Spanish by Diversidad Sin Fronteras!
DESCRIPTION:allgo is excited to host Diversidad Sin Fronteras to letter write in Spanish! If you don’t speak Spanish\, no worries\, most people who come to the events don’t either. Templates and Spanish-speakers will be available to help\, as well as non-text options like drawing pictures. \n2 hours away from Austin\, asylum-seeking trans women are detained at the South Texas Detention Center in Pearsall\, TX. Many have been there for months and are not certain when or if they will be released. Needless to say\, this system of incarceration and criminalization is particularly cruel and dehumanizing for trans & queer people. \nDiversidad Sin Fronteras invites you to write letters in Spanish to our trans sisters detained at Pearsall to help break their isolation and let them know they are not alone! \nÚnete a Diversidad Sin Fronteras TX en solidaridad con migrantes LGBTQ mientras escribimos cartas a nuestras hermanas trans detenidas en Pearsall\, para romper el aislamiento y para hacerles saber que no están solas. \nAll letters will be written in Spanish. We will provide Spanish letter-writing templates and all letter-writing materials\, as well as have at least one Spanish-speaking person available to help translate other messaging as needed. \nDiversidad Sin Fronteras will be accepting donations. This is also a great chance to donate to the commissary of women at Pearsall if you can! $5\, $10\, $15\, $50\, all of it helps.\nCash donations accepted at the event\, as well as Venmo and Paypal anytime.\nVenmo: @DSFTX\nPaypal: DiversidadTexas@gmail.com\n—————————————————————————–\nDiversidad Sin Fronteras Texas (DSFTX) is the local chapter of the national volunteer-run collective\, Diversidad Sin Fronteras. DSFTX provides support for LGBTQ asylum seeking folks detained in Texas. \nThe DSFTX collective is currently focused on 3 methods of supporting the roughly 25 trans women in detention at Geo’s Southwest Texas Detention Complex:\n1. DSFTX raises funds to provide much needed monthly commissary to the women so they can make calls to their friends\, families\, and lawyers as well as supplement moldy and insufficient meals provided by the for-profit detention facility.\n2. DSFTX also hosts regular letter-writing parties to send mail to the women as a way of breaking the intense isolation and dehumanization inflicted upon LGBTQ detainees.\n3. DSFTX organizes detention center visits for queer and trans folks to meet one-on-one with asylees currently detained. \nFor more information or to contact Diversidad Sin Fronteras TX\, email diversidadtexas@gmail.com
URL:https://allgo.org/event/letter-writing-party-in-spanish-by-diversidad-sin-fronteras/
LOCATION:allgo\, 701 Tillery St.\, Austin\, TX\, 78702\, United States
ATTACH;FMTTYPE=image/jpeg:https://allgo.org/wp-content/uploads/78921653_2216889268604305_7464664795514404864_n.jpg
END:VEVENT
END:VCALENDAR