BEGIN:VCALENDAR
VERSION:2.0
PRODID:-//allgo - ECPv5.4.0.2//NONSGML v1.0//EN
CALSCALE:GREGORIAN
METHOD:PUBLISH
X-WR-CALNAME:allgo
X-ORIGINAL-URL:https://allgo.org
X-WR-CALDESC:Events for allgo
BEGIN:VTIMEZONE
TZID:UTC
BEGIN:STANDARD
TZOFFSETFROM:+0000
TZOFFSETTO:+0000
TZNAME:UTC
DTSTART:20190101T000000
END:STANDARD
END:VTIMEZONE
BEGIN:VEVENT
DTSTART;TZID=UTC:20191212T180000
DTEND;TZID=UTC:20191212T200000
DTSTAMP:20210703T083706
CREATED:20191206T200513Z
LAST-MODIFIED:20191206T200513Z
UID:1872-1576173600-1576180800@allgo.org
SUMMARY:All Fun & Games Social
DESCRIPTION:We invite community members to our winter social! This is a great opportunity to connect with others\, learn more about allgo’s programs\, play board games\, and meet our newest staff member\, Bryan Garcia!
URL:https://allgo.org/event/all-fun-games-social/
ATTACH;FMTTYPE=image/jpeg:https://allgo.org/wp-content/uploads/79510011_2429108783865166_7928153562742259712_n.jpg
END:VEVENT
END:VCALENDAR